BEGIN:VCALENDAR
VERSION:2.0
PRODID:-//Indianapolis Ambassadors - ECPv6.15.17.1//NONSGML v1.0//EN
CALSCALE:GREGORIAN
METHOD:PUBLISH
X-WR-CALNAME:Indianapolis Ambassadors
X-ORIGINAL-URL:https://www.indyambassadors.org
X-WR-CALDESC:Events for Indianapolis Ambassadors
REFRESH-INTERVAL;VALUE=DURATION:PT1H
X-Robots-Tag:noindex
X-PUBLISHED-TTL:PT1H
BEGIN:VTIMEZONE
TZID:America/Indiana/Indianapolis
BEGIN:DAYLIGHT
TZOFFSETFROM:-0500
TZOFFSETTO:-0400
TZNAME:EDT
DTSTART:20250309T070000
END:DAYLIGHT
BEGIN:STANDARD
TZOFFSETFROM:-0400
TZOFFSETTO:-0500
TZNAME:EST
DTSTART:20251102T060000
END:STANDARD
BEGIN:DAYLIGHT
TZOFFSETFROM:-0500
TZOFFSETTO:-0400
TZNAME:EDT
DTSTART:20260308T070000
END:DAYLIGHT
BEGIN:STANDARD
TZOFFSETFROM:-0400
TZOFFSETTO:-0500
TZNAME:EST
DTSTART:20261101T060000
END:STANDARD
BEGIN:DAYLIGHT
TZOFFSETFROM:-0500
TZOFFSETTO:-0400
TZNAME:EDT
DTSTART:20270314T070000
END:DAYLIGHT
BEGIN:STANDARD
TZOFFSETFROM:-0400
TZOFFSETTO:-0500
TZNAME:EST
DTSTART:20271107T060000
END:STANDARD
END:VTIMEZONE
BEGIN:VEVENT
DTSTART;VALUE=DATE:20260506
DTEND;VALUE=DATE:20260510
DTSTAMP:20260422T183059
CREATED:20260415T042528Z
LAST-MODIFIED:20260415T042714Z
UID:10014025-1778025600-1778371199@www.indyambassadors.org
SUMMARY:Indy Spring Cup at the IU Natatorium
DESCRIPTION:Register Now for Your Favorite Volunteer Spots at the Indy Spring Cup Coming to the IU Natatorium in Early May! \nGreetings! \nIt is now time to Think May at the IU Natatorium – Indianapolis!  We are excited to host the 4th edition of the Indy Spring Cup\, one of the nation’s premier swimming competitions\, from May 6-9.   This year we will be welcoming approximately 500 accomplished athletes\, including Olympians and aspiring Olympians\, for 3.5 days of fast racing at the country’s most iconic aquatics venue. \nVolunteer opportunities for this event start on Wednesday\, May 6\, and continue through Saturday\, May 9.  You are invited to join in the fun and fellowship as a coveted member of our volunteer Team Indy at the Nat.   Sign up now to secure your favorite volunteer position: https://www.signupgenius.com/go/10C084EA9AC2CA1FF2-62635201-indy \nAll volunteers receive complimentary parking and meals during their shifts as well as a commemorative event t-shirt. \nWe look forward to seeing you soon at the 2026 Indy Spring Cup as we continue to build and celebrate our fantastic volunteer community while providing an exceptional experience for our visiting athletes\, coaches\, and fans.    Thank you! \nSincerely\, \nThe Local Organizing Committee\n2026 Indy Spring Cup
URL:https://www.indyambassadors.org/event/indy-spring-cup/
LOCATION:IU Natatorium – Indianapolis\, 901 West New York Street\, Indianapolis\, IN\, 46202\, United States
CATEGORIES:Volunteer
ATTACH;FMTTYPE=image/png:https://www.indyambassadors.org/wp-content/uploads/2026/04/26-indy-summer-cup-web-banners_ccc-desktop.png
GEO:39.7708114;-86.1750734
X-APPLE-STRUCTURED-LOCATION;VALUE=URI;X-ADDRESS=IU Natatorium – Indianapolis 901 West New York Street Indianapolis IN 46202 United States;X-APPLE-RADIUS=500;X-TITLE=901 West New York Street:geo:-86.1750734,39.7708114
END:VEVENT
END:VCALENDAR