BEGIN:VCALENDAR
VERSION:2.0
PRODID:-//Indianapolis Ambassadors - ECPv6.15.17.1//NONSGML v1.0//EN
CALSCALE:GREGORIAN
METHOD:PUBLISH
X-WR-CALNAME:Indianapolis Ambassadors
X-ORIGINAL-URL:https://www.indyambassadors.org
X-WR-CALDESC:Events for Indianapolis Ambassadors
REFRESH-INTERVAL;VALUE=DURATION:PT1H
X-Robots-Tag:noindex
X-PUBLISHED-TTL:PT1H
BEGIN:VTIMEZONE
TZID:America/Indiana/Indianapolis
BEGIN:DAYLIGHT
TZOFFSETFROM:-0500
TZOFFSETTO:-0400
TZNAME:EDT
DTSTART:20250309T070000
END:DAYLIGHT
BEGIN:STANDARD
TZOFFSETFROM:-0400
TZOFFSETTO:-0500
TZNAME:EST
DTSTART:20251102T060000
END:STANDARD
BEGIN:DAYLIGHT
TZOFFSETFROM:-0500
TZOFFSETTO:-0400
TZNAME:EDT
DTSTART:20260308T070000
END:DAYLIGHT
BEGIN:STANDARD
TZOFFSETFROM:-0400
TZOFFSETTO:-0500
TZNAME:EST
DTSTART:20261101T060000
END:STANDARD
BEGIN:DAYLIGHT
TZOFFSETFROM:-0500
TZOFFSETTO:-0400
TZNAME:EDT
DTSTART:20270314T070000
END:DAYLIGHT
BEGIN:STANDARD
TZOFFSETFROM:-0400
TZOFFSETTO:-0500
TZNAME:EST
DTSTART:20271107T060000
END:STANDARD
END:VTIMEZONE
BEGIN:VEVENT
DTSTART;TZID=America/Indiana/Indianapolis:20260524T060000
DTEND;TZID=America/Indiana/Indianapolis:20260524T170000
DTSTAMP:20260425T063823
CREATED:20260422T143744Z
LAST-MODIFIED:20260422T143845Z
UID:10014033-1779602400-1779642000@www.indyambassadors.org
SUMMARY:Bike to the 500 starting at the AMP at 16 Tech
DESCRIPTION:Setup\, check-in\, ride marshaling\, valet bike parking\, and return ride leaders needed. \nThe greatest way to get to the Greatest Spectacle in Racing is by riding in Bike to the 500. We need volunteers to help with setup\, check in\, ride marshaling\, valet bike parking\, and return ride leaders. Please help so we can continue this exciting event. \nRegistration Link\nhttps://www.indianapolismotorspeedway.com/events/indy500/event-info/bike-to-the-500 \nRequired Training\nShort explanation of duties will be provided before shift \nPhysical Requirements\n\nSitting\nStanding\nOutdoors\n\nDress Code\nComfortable clothing \nParking Location\nThe Amp at 16 tech & if volunteering at the track\, bike parking is available. \nParking Instructions\nSurface and garage parking at the Amp is available. We encourage volunteers to ride their bikes with group to the track.
URL:https://www.indyambassadors.org/event/bike-to-the-500/
LOCATION:The AMP at 16 Tech\, 1220 Waterway Blvd\, Indianapolis\, IN\, 46202\, United States
CATEGORIES:Volunteer
ATTACH;FMTTYPE=image/png:https://www.indyambassadors.org/wp-content/uploads/2024/04/640x320.png
END:VEVENT
END:VCALENDAR