BEGIN:VCALENDAR
VERSION:2.0
PRODID:-//Indianapolis Ambassadors - ECPv6.15.17.1//NONSGML v1.0//EN
CALSCALE:GREGORIAN
METHOD:PUBLISH
X-WR-CALNAME:Indianapolis Ambassadors
X-ORIGINAL-URL:https://www.indyambassadors.org
X-WR-CALDESC:Events for Indianapolis Ambassadors
REFRESH-INTERVAL;VALUE=DURATION:PT1H
X-Robots-Tag:noindex
X-PUBLISHED-TTL:PT1H
BEGIN:VTIMEZONE
TZID:America/Indiana/Indianapolis
BEGIN:DAYLIGHT
TZOFFSETFROM:-0500
TZOFFSETTO:-0400
TZNAME:EDT
DTSTART:20250309T070000
END:DAYLIGHT
BEGIN:STANDARD
TZOFFSETFROM:-0400
TZOFFSETTO:-0500
TZNAME:EST
DTSTART:20251102T060000
END:STANDARD
BEGIN:DAYLIGHT
TZOFFSETFROM:-0500
TZOFFSETTO:-0400
TZNAME:EDT
DTSTART:20260308T070000
END:DAYLIGHT
BEGIN:STANDARD
TZOFFSETFROM:-0400
TZOFFSETTO:-0500
TZNAME:EST
DTSTART:20261101T060000
END:STANDARD
BEGIN:DAYLIGHT
TZOFFSETFROM:-0500
TZOFFSETTO:-0400
TZNAME:EDT
DTSTART:20270314T070000
END:DAYLIGHT
BEGIN:STANDARD
TZOFFSETFROM:-0400
TZOFFSETTO:-0500
TZNAME:EST
DTSTART:20271107T060000
END:STANDARD
END:VTIMEZONE
BEGIN:VEVENT
DTSTART;TZID=America/Indiana/Indianapolis:20260515T180000
DTEND;TZID=America/Indiana/Indianapolis:20260515T203000
DTSTAMP:20260424T151119
CREATED:20260415T214906Z
LAST-MODIFIED:20260416T211030Z
UID:10014027-1778868000-1778877000@www.indyambassadors.org
SUMMARY:Walk to Cure Arthritis at Connor Prairie
DESCRIPTION:Walk Event Volunteers Needed. Walk to Cure Arthritis is the Arthritis Foundation’s nationwide signature event that unites communities across the country to put an end to arthritis. We aren’t just helping the millions of people with arthritis to live better; we’re charting the course to a cure. \nJoin our volunteer community of champions. As Champions of Yes\, we create opportunities to say Yes instead of No. Yes to fighting for our community and against the challenges we face. Yes to making connections that count. Yes to advancing research for better treatments and a cure. \n https://volunteering.arthritis.org/?nd=vms_registration_view&registration_type_id=72
URL:https://www.indyambassadors.org/event/walk-to-cure-arthritis-2026/
LOCATION:Conner Prairie\, 13400 Allisonville Road\, Fishers\, Indiana\, 46038
CATEGORIES:Volunteer
ATTACH;FMTTYPE=image/jpeg:https://www.indyambassadors.org/wp-content/uploads/2026/04/Walk-to-Cure-Arthritis-Banner.jpg
ORGANIZER;CN="Arthiritis Foundation":MAILTO:igates@arthritis.org
GEO:39.9845083;-86.0288171
X-APPLE-STRUCTURED-LOCATION;VALUE=URI;X-ADDRESS=Conner Prairie 13400 Allisonville Road Fishers Indiana 46038;X-APPLE-RADIUS=500;X-TITLE=13400 Allisonville Road:geo:-86.0288171,39.9845083
END:VEVENT
BEGIN:VEVENT
DTSTART;VALUE=DATE:20261205
DTEND;VALUE=DATE:20261206
DTSTAMP:20260424T151119
CREATED:20260416T220819Z
LAST-MODIFIED:20260416T221432Z
UID:10014031-1796428800-1796515199@www.indyambassadors.org
SUMMARY:Arthritis Foundation: Jingle Bell Run 2026
DESCRIPTION:Sat\, Dec 5th 6:30am to 11am at Conner Prairie\nVolunteers Needed for Packet Pickup\, Setup\, Water Station\, Craft Table and Much More \nJoin us for the 42nd annual Jingle Bell Run\, the original festive race for charity brought to you by the Arthritis Foundation. Wear your favorite holiday gear\, and let’s jingle all the way toward a cure! \nArthritis is the leading cause of disability in the U.S.\, touching families\, workplaces\, and communities everywhere. This holiday season\, the Arthritis Foundation is turning festive energy into powerful action. Jingle Bell Run captures the spirit of the season and turns participation and fundraising into momentum — creating real solutions for people living with arthritis. \nThis is how progress happens: Not quietly. Not alone. But together — through movement\, purpose and celebration. Make Jingle Bell Run your new holiday tradition. \nVolunteer Here: https://volunteering.arthritis.org/?nd=p_vms_registration_view&registration_type_id=78
URL:https://www.indyambassadors.org/event/jingle-bell-run-2026/
LOCATION:Conner Prairie\, 13400 Allisonville Road\, Fishers\, Indiana\, 46038
CATEGORIES:Volunteer
ATTACH;FMTTYPE=image/png:https://www.indyambassadors.org/wp-content/uploads/2026/04/Jingle-Bell-Run-bannerImage.png
ORGANIZER;CN="Arthiritis Foundation":MAILTO:igates@arthritis.org
GEO:39.9845083;-86.0288171
X-APPLE-STRUCTURED-LOCATION;VALUE=URI;X-ADDRESS=Conner Prairie 13400 Allisonville Road Fishers Indiana 46038;X-APPLE-RADIUS=500;X-TITLE=13400 Allisonville Road:geo:-86.0288171,39.9845083
END:VEVENT
END:VCALENDAR